BEGIN:VCALENDAR
VERSION:2.0
PRODID:-//eventon.com NONSGML v1.0//EN
CALSCALE:GREGORIAN
METHOD:PUBLISH
BEGIN:VEVENT
UID:69e75c6501d05
DTSTAMP:20260421T111549Z
DTSTART:20240111
DTEND:20240112
LOCATION:
SUMMARY:CONSEIL MEDICAL (FORMATION RESTREINTE)
DESCRIPTION:CONSEIL MEDICAL (FORMATION RESTREINTE)\nhttps://55.cdgplus.fr/e
 vents/conseil-medical-formation-restreinte-3/
URL:https://55.cdgplus.fr/events/conseil-medical-formation-restreinte-3/
END:VEVENT
END:VCALENDAR