BEGIN:VCALENDAR
VERSION:2.0
PRODID:-//eventon.com NONSGML v1.0//EN
CALSCALE:GREGORIAN
METHOD:PUBLISH
BEGIN:VEVENT
UID:69e75c8cd6806
DTSTAMP:20260421T111628Z
DTSTART:20240514T104800Z
DTEND:20240514T104800Z
LOCATION:
SUMMARY:COMITE SOCIAL TERRITORIAL (CST)
DESCRIPTION:COMITE SOCIAL TERRITORIAL (CST)\nhttps://55.cdgplus.fr/events/c
 omite-social-territorial-cst-5/
URL:https://55.cdgplus.fr/events/comite-social-territorial-cst-5/
END:VEVENT
END:VCALENDAR