BEGIN:VCALENDAR
VERSION:2.0
PRODID:-//eventon.com NONSGML v1.0//EN
CALSCALE:GREGORIAN
METHOD:PUBLISH
BEGIN:VEVENT
UID:69e75bd8157d0
DTSTAMP:20260421T111328Z
DTSTART:20241217
DTEND:20241218
LOCATION:
SUMMARY:COMITE SOCIAL TERRITORIAL (CST)
DESCRIPTION:COMITE SOCIAL TERRITORIAL (CST)\nhttps://55.cdgplus.fr/events/c
 omite-social-territorial-cst-9/
URL:https://55.cdgplus.fr/events/comite-social-territorial-cst-9/
END:VEVENT
END:VCALENDAR