BEGIN:VCALENDAR
VERSION:2.0
PRODID:-//eventon.com NONSGML v1.0//EN
CALSCALE:GREGORIAN
METHOD:PUBLISH
BEGIN:VEVENT
UID:69e761a6f4182
DTSTAMP:20260421T113814Z
DTSTART:20241120T120200Z
DTEND:20241120T120200Z
LOCATION:
SUMMARY:CONSEIL MEDICAL (FORMATION PLÉNIÈRE)
DESCRIPTION:CONSEIL MEDICAL (FORMATION PLÉNIÈRE)\nhttps://55.cdgplus.fr/e
 vents/conseil-medical-formation-pleniere-11/
URL:https://55.cdgplus.fr/events/conseil-medical-formation-pleniere-11/
END:VEVENT
END:VCALENDAR