BEGIN:VCALENDAR
VERSION:2.0
PRODID:-//eventon.com NONSGML v1.0//EN
CALSCALE:GREGORIAN
METHOD:PUBLISH
BEGIN:VEVENT
UID:69e75ce779ae4
DTSTAMP:20260421T111759Z
DTSTART:20260226T100000Z
DTEND:20260226T120000Z
LOCATION:
SUMMARY:CONSEIL MEDICAL (FORMATION PLÉNIÈRE)
DESCRIPTION:CONSEIL MEDICAL (FORMATION PLÉNIÈRE)\nhttps://55.cdgplus.fr/e
 vents/conseil-medical-formation-pleniere-23/
URL:https://55.cdgplus.fr/events/conseil-medical-formation-pleniere-23/
END:VEVENT
END:VCALENDAR